2.438400000000
0.000000000000
0.000000000000
-2.438400000000
420569.559649648840
5011765.165454892400
