2.438400000000
0.000000000000
0.000000000000
-2.438400000000
401114.011286620690
5025932.331455400210
