2.438400000000
0.000000000000
0.000000000000
-2.438400000000
362773.883444486593
5068328.314807867630
