2.438400
0.000000
0.000000
-2.438400
684720.197028
5014457.874173
