2.438400
0.000000
0.000000
-2.438400
694073.858558
5028709.587075
