2.438400000000
0.000000000000
0.000000000000
-2.438400000000
625384.241265171090
5054451.500992302800
