2.438400
0.000000
0.000000
-2.438400
527829.880209
5025298.800662
