2.438400
0.000000
0.000000
-2.438400
566932.211621
5039585.587197
