2.438400000000
0.000000000000
0.000000000000
-2.438400000000
430562.628542397640
5025532.188240308300
