2.43840000
0.00000000
0.00000000
-2.43840000
413544.77776026
4414926.57248313
