2.43840000
0.00000000
0.00000000
-2.43840000
381412.35476946
4415354.84475699
