2.43840000
0.00000000
0.00000000
-2.43840000
744650.38928672
4432648.44436882
