2.43840000
0.00000000
0.00000000
-2.43840000
648612.24609677
4430011.67563515
