2.43840000
0.00000000
0.00000000
-2.43840000
499241.01549957
4456064.75505901
