2.43840000
0.00000000
0.00000000
-2.43840000
456939.34830326
4511683.14711002
