2.43840000
0.00000000
0.00000000
-2.43840000
362020.16360332
4526719.18953730
