2.43840000
0.00000000
0.00000000
-2.43840000
287343.12030098
4500707.55900784
