2.43840000
0.00000000
0.00000000
-2.43840000
710281.53208978
4514895.42508543
