2.43840000
0.00000000
0.00000000
-2.43840000
488804.32955136
4608698.98881238
