2.43840000
0.00000000
0.00000000
-2.43840000
426188.41570108
4609066.70602805
