2.43840000
0.00000000
0.00000000
-2.43840000
426473.72147000
4636821.60372836
