2.43840000
0.00000000
0.00000000
-2.43840000
363834.58026816
4623858.42009487
