2.43840000
0.00000000
0.00000000
-2.43840000
309955.37187997
4555642.37521793
