2.43840000
0.00000000
0.00000000
-2.43840000
257370.13733649
4557192.47093071
