2.43840000
0.00000000
0.00000000
-2.43840000
719325.12728688
4570570.47148074
