2.43840000
0.00000000
0.00000000
-2.43840000
675717.81129910
4638756.61449735
