2.43840000
0.00000000
0.00000000
-2.43840000
656479.95729659
4568848.87877894
