2.43840000
0.00000000
0.00000000
-2.43840000
635534.95944746
4568394.94092520
