2.43840000
0.00000000
0.00000000
-2.43840000
656180.33244664
4582726.74941697
