2.43840000
0.00000000
0.00000000
-2.43840000
582529.32258983
4623034.27263130
