2.43840000
0.00000000
0.00000000
-2.43840000
540726.03862746
4636639.24510693
