2.438400000000
0.000000000000
0.000000000000
-2.438400000000
616172.363382334940
3638849.585801497100
