2.438400000000
0.000000000000
0.000000000000
-2.438400000000
569592.038533025420
3610629.958752660100
