2.438400
0.000000
0.000000
-2.438400
592427.990366
3680157.213551
