2.438400
0.000000
0.000000
-2.438400
661778.282809
3708899.449951
