2.438400
0.000000
0.000000
-2.438400
661373.518392
3736598.880397
