2.43840000
0.00000000
0.00000000
-2.43840000
487630.19358295
3721154.25836215
