2.43840000
0.00000000
0.00000000
-2.43840000
418065.53267734
3735356.40351207
