2.43840000
0.00000000
0.00000000
-2.43840000
371674.11560294
3735866.56786889
