2.43840000
0.00000000
0.00000000
-2.43840000
395170.55413480
3763304.22832099
