2.438400000000
0.000000000000
0.000000000000
-2.438400000000
648542.797075293958
3805801.874863035511
