2.438400000000
0.000000000000
0.000000000000
-2.438400000000
545340.654583301977
3776768.590243593790
