2.438400000000
0.000000000000
0.000000000000
-2.438400000000
487776.084718150552
3845895.414583045524
