2.39999999999999590
0.00000000000000000
0.00000000000000000
-2.39999999999999990
407747.27000000002000000
3901898.35000000010000000
