2.39999999999999990
0.00000000000000000
0.00000000000000000
-2.39999999999999990
304968.96999999997000000
3889609.54000000000000000
