2.438400
0.000000
0.000000
-2.438400
693960.670956
4708905.308287
