2.43840000
0.00000000
0.00000000
-2.43840000
690437.67736673
4847715.28875781
