2.43840000
0.00000000
0.00000000
-2.43840000
700080.40807155
4861912.62119071
