2.438400000000
0.000000000000
0.000000000000
-2.438400000000
629962.931274293110
4846251.491968894400
