2.438400000000
0.000000000000
0.000000000000
-2.438400000000
509363.025104165135
4803048.038386069238
